BEGIN:VCALENDAR
VERSION:2.0
PRODID:-//Douglas County Historical Society - ECPv6.15.20//NONSGML v1.0//EN
CALSCALE:GREGORIAN
METHOD:PUBLISH
X-WR-CALNAME:Douglas County Historical Society
X-ORIGINAL-URL:https://douglascohistory.org
X-WR-CALDESC:Events for Douglas County Historical Society
REFRESH-INTERVAL;VALUE=DURATION:PT1H
X-Robots-Tag:noindex
X-PUBLISHED-TTL:PT1H
BEGIN:VTIMEZONE
TZID:UTC
BEGIN:STANDARD
TZOFFSETFROM:+0000
TZOFFSETTO:+0000
TZNAME:UTC
DTSTART:20190101T000000
END:STANDARD
END:VTIMEZONE
BEGIN:VEVENT
DTSTART;TZID=UTC:20200809T100000
DTEND;TZID=UTC:20200809T160000
DTSTAMP:20260422T041046
CREATED:20200805T233251Z
LAST-MODIFIED:20200805T233251Z
UID:10002459-1596967200-1596988800@douglascohistory.org
SUMMARY:DCHS Annual Garage Sale
DESCRIPTION:Douglas County Historical Society Garage Sale: \nAugust 6th – 9th \n770 N 114th St \nThurs & Fr 9am–7pm \nSat & Sun 10am–4pm \nHuge sale with over 10\,000 items including: unique collectibles and antiques\, furniture\, china\, glassware\, books\, records\, garden\, clothing\, jewelry\, Christmas and holiday décor\, sewing\, electronics\, small appliances\, kitchenware\, toys\, linens\, art & much more. All sales final. Face masks required for entry. Credit/Debit sales preferred; exact change required for cash sales. Proceeds from the sale support the Douglas County Historical Society’s mission to preserve and enliven historical insight in Douglas County\, NE.
URL:https://douglascohistory.org/event/dchs-annual-garage-sale-9/
LOCATION:Annual Garage Sale\, 770 N. 114th Street\, Omaha\, NE\, 68154\, United States
END:VEVENT
BEGIN:VEVENT
DTSTART;TZID=UTC:20200808T100000
DTEND;TZID=UTC:20200808T160000
DTSTAMP:20260422T041046
CREATED:20200805T233207Z
LAST-MODIFIED:20200805T233207Z
UID:10002458-1596880800-1596902400@douglascohistory.org
SUMMARY:DCHS Annual Garage Sale
DESCRIPTION:Douglas County Historical Society Garage Sale: \nAugust 6th – 9th \n770 N 114th St \nThurs & Fr 9am–7pm \nSat & Sun 10am–4pm \nHuge sale with over 10\,000 items including: unique collectibles and antiques\, furniture\, china\, glassware\, books\, records\, garden\, clothing\, jewelry\, Christmas and holiday décor\, sewing\, electronics\, small appliances\, kitchenware\, toys\, linens\, art & much more. All sales final. Face masks required for entry. Credit/Debit sales preferred; exact change required for cash sales. Proceeds from the sale support the Douglas County Historical Society’s mission to preserve and enliven historical insight in Douglas County\, NE.
URL:https://douglascohistory.org/event/dchs-annual-garage-sale-8/
LOCATION:Annual Garage Sale\, 770 N. 114th Street\, Omaha\, NE\, 68154\, United States
END:VEVENT
BEGIN:VEVENT
DTSTART;TZID=UTC:20200807T090000
DTEND;TZID=UTC:20200807T190000
DTSTAMP:20260422T041046
CREATED:20200805T233047Z
LAST-MODIFIED:20200805T233047Z
UID:10002457-1596790800-1596826800@douglascohistory.org
SUMMARY:DCHS Annual Garage Sale
DESCRIPTION:Douglas County Historical Society Garage Sale: \nAugust 6th – 9th \n770 N 114th St \nThurs & Fr 9am–7pm \nSat & Sun 10am–4pm \nHuge sale with over 10\,000 items including: unique collectibles and antiques\, furniture\, china\, glassware\, books\, records\, garden\, clothing\, jewelry\, Christmas and holiday décor\, sewing\, electronics\, small appliances\, kitchenware\, toys\, linens\, art & much more. All sales final. Face masks required for entry. Credit/Debit sales preferred; exact change required for cash sales. Proceeds from the sale support the Douglas County Historical Society’s mission to preserve and enliven historical insight in Douglas County\, NE.
URL:https://douglascohistory.org/event/dchs-annual-garage-sale-7/
LOCATION:Annual Garage Sale\, 770 N. 114th Street\, Omaha\, NE\, 68154\, United States
END:VEVENT
BEGIN:VEVENT
DTSTART;TZID=UTC:20200806T090000
DTEND;TZID=UTC:20200806T190000
DTSTAMP:20260422T041046
CREATED:20200805T232900Z
LAST-MODIFIED:20200805T232900Z
UID:10002456-1596704400-1596740400@douglascohistory.org
SUMMARY:DCHS Annual Garage Sale
DESCRIPTION:Douglas County Historical Society Garage Sale: \nAugust 6th – 9th \n770 N 114th St \nThurs & Fr 9am–7pm \nSat & Sun 10am–4pm \nHuge sale with over 10\,000 items including: unique collectibles and antiques\, furniture\, china\, glassware\, books\, records\, garden\, clothing\, jewelry\, Christmas and holiday décor\, sewing\, electronics\, small appliances\, kitchenware\, toys\, linens\, art & much more. All sales final. Face masks required for entry. Credit/Debit sales preferred; exact change required for cash sales. Proceeds from the sale support the Douglas County Historical Society’s mission to preserve and enliven historical insight in Douglas County\, NE.
URL:https://douglascohistory.org/event/dchs-annual-garage-sale-6/
LOCATION:Annual Garage Sale\, 770 N. 114th Street\, Omaha\, NE\, 68154\, United States
END:VEVENT
END:VCALENDAR